BEGIN:VCALENDAR
VERSION:2.0
PRODID:-//Wadson's Farm - ECPv6.15.14//NONSGML v1.0//EN
CALSCALE:GREGORIAN
METHOD:PUBLISH
X-ORIGINAL-URL:https://wadsonfarm.advdev.space
X-WR-CALDESC:Events for Wadson's Farm
REFRESH-INTERVAL;VALUE=DURATION:PT1H
X-Robots-Tag:noindex
X-PUBLISHED-TTL:PT1H
BEGIN:VTIMEZONE
TZID:Atlantic/Bermuda
BEGIN:DAYLIGHT
TZOFFSETFROM:-0400
TZOFFSETTO:-0300
TZNAME:ADT
DTSTART:20250309T060000
END:DAYLIGHT
BEGIN:STANDARD
TZOFFSETFROM:-0300
TZOFFSETTO:-0400
TZNAME:AST
DTSTART:20251102T050000
END:STANDARD
BEGIN:DAYLIGHT
TZOFFSETFROM:-0400
TZOFFSETTO:-0300
TZNAME:ADT
DTSTART:20260308T060000
END:DAYLIGHT
BEGIN:STANDARD
TZOFFSETFROM:-0300
TZOFFSETTO:-0400
TZNAME:AST
DTSTART:20261101T050000
END:STANDARD
BEGIN:DAYLIGHT
TZOFFSETFROM:-0400
TZOFFSETTO:-0300
TZNAME:ADT
DTSTART:20270314T060000
END:DAYLIGHT
BEGIN:STANDARD
TZOFFSETFROM:-0300
TZOFFSETTO:-0400
TZNAME:AST
DTSTART:20271107T050000
END:STANDARD
END:VTIMEZONE
BEGIN:VEVENT
DTSTART;VALUE=DATE:20260130
DTEND;VALUE=DATE:20260701
DTSTAMP:20260420T172210
CREATED:20260130T122131Z
LAST-MODIFIED:20260130T160831Z
UID:224-1769731200-1782863999@wadsonfarm.advdev.space
SUMMARY:School Tours
DESCRIPTION:We are happy to host school tours upon request. Please contact us (link to contact form) to provide information on grade\, class size and provide background on the curriculum you have been reviewing so we can tailor the tour appropriately. \n  \nWe kindly request at least 2 weeks’ notice from the date you would like to visit. \n  \nLength: about 1.5 hours depending on topic(s) covered \nCost: $12 per student.
URL:https://wadsonfarm.advdev.space/event/school-tours/
CATEGORIES:Tours & Field Trips
ATTACH;FMTTYPE=image/jpeg:https://wadsonfarm.advdev.space/wp-content/uploads/2026/01/event-blank-1.jpg
END:VEVENT
BEGIN:VEVENT
DTSTART;TZID=Atlantic/Bermuda:20260130T100000
DTEND;TZID=Atlantic/Bermuda:20260630T170000
DTSTAMP:20260420T172210
CREATED:20260130T121730Z
LAST-MODIFIED:20260130T130319Z
UID:221-1769767200-1782838800@wadsonfarm.advdev.space
SUMMARY:Walking Tour
DESCRIPTION:This tour begins at our farm shop and provides a history of agriculture in Bermuda\, of Wadson’s farm and provides insight into our current operations that are focused on regenerative and sustainable agriculture. \n  \nLength: Approximately 1.5 hours \nAvailable at 10:00 am by appointment only \nCost: $80 Minimum\, which covers a group of 4. Additional adults will be charged $20/person.
URL:https://wadsonfarm.advdev.space/event/walking-tour/
CATEGORIES:Tours & Field Trips
ATTACH;FMTTYPE=image/jpeg:https://wadsonfarm.advdev.space/wp-content/uploads/2026/01/event-blank-1.jpg
END:VEVENT
BEGIN:VEVENT
DTSTART;VALUE=DATE:20260208
DTEND;VALUE=DATE:20260209
DTSTAMP:20260420T172210
CREATED:20260128T084152Z
LAST-MODIFIED:20260128T104113Z
UID:180-1770508800-1770595199@wadsonfarm.advdev.space
SUMMARY:Our Temporary Holiday Hours
DESCRIPTION:temp content.. temp content.. temp content.. temp content.. temp content.. temp content.. temp content.. temp content.. temp content.. temp content.. temp content.. temp content.. temp content.. temp content.. temp content.. temp content.. temp content.. temp content.. temp content.. temp content.. temp content.. temp content.. temp content.. temp content.. temp content.. temp content.. temp content.. temp content.. temp content.. temp content.. temp content.. temp content.. temp content.. temp content..
URL:https://wadsonfarm.advdev.space/event/our-temporary-holiday-hours/
CATEGORIES:Notices
ATTACH;FMTTYPE=image/jpeg:https://wadsonfarm.advdev.space/wp-content/uploads/2026/01/event-1.jpg
END:VEVENT
BEGIN:VEVENT
DTSTART;VALUE=DATE:20260210
DTEND;VALUE=DATE:20260211
DTSTAMP:20260420T172210
CREATED:20260128T084234Z
LAST-MODIFIED:20260128T104218Z
UID:182-1770681600-1770767999@wadsonfarm.advdev.space
SUMMARY:Pumpkin Picking Event Reminder
DESCRIPTION:temp content.. temp content.. temp content.. temp content.. temp content.. temp content.. temp content.. temp content.. temp content.. temp content.. temp content.. temp content.. temp content.. temp content.. temp content.. temp content.. temp content.. temp content.. temp content.. temp content.. temp content.. temp content.. temp content.. temp content.. temp content.. temp content.. temp content.. temp content.. temp content.. temp content.. temp content.. temp content.. temp content.. temp content..
URL:https://wadsonfarm.advdev.space/event/pumpkin-picking-event-reminder/
CATEGORIES:Notices
ATTACH;FMTTYPE=image/jpeg:https://wadsonfarm.advdev.space/wp-content/uploads/2026/01/event-2.jpg
END:VEVENT
BEGIN:VEVENT
DTSTART;VALUE=DATE:20260212
DTEND;VALUE=DATE:20260213
DTSTAMP:20260420T172210
CREATED:20260128T084251Z
LAST-MODIFIED:20260128T104314Z
UID:184-1770854400-1770940799@wadsonfarm.advdev.space
SUMMARY:Touch-a-Tractor Event Notice
DESCRIPTION:temp content.. temp content.. temp content.. temp content.. temp content.. temp content.. temp content.. temp content.. temp content.. temp content.. temp content.. temp content.. temp content.. temp content.. temp content.. temp content.. temp content.. temp content.. temp content.. temp content.. temp content.. temp content.. temp content.. temp content.. temp content.. temp content.. temp content.. temp content.. temp content.. temp content.. temp content.. temp content.. temp content.. temp content..
URL:https://wadsonfarm.advdev.space/event/touch-a-tractor-event-notice/
CATEGORIES:Notices
ATTACH;FMTTYPE=image/jpeg:https://wadsonfarm.advdev.space/wp-content/uploads/2026/01/event-3.jpg
END:VEVENT
BEGIN:VEVENT
DTSTART;VALUE=DATE:20260220
DTEND;VALUE=DATE:20260221
DTSTAMP:20260420T172210
CREATED:20260128T083905Z
LAST-MODIFIED:20260128T104457Z
UID:176-1771545600-1771631999@wadsonfarm.advdev.space
SUMMARY:Holiday Turkey Order Open
DESCRIPTION:temp content… temp content… temp content… temp content… temp content… temp content… temp content… temp content… temp content… temp content… temp content… temp content… temp content… temp content… temp content… temp content… temp content… temp content… temp content… temp content… temp content… temp content… temp content… temp content… temp content… temp content… temp content… temp content… temp content…
URL:https://wadsonfarm.advdev.space/event/holiday-turkey-order-open/
CATEGORIES:Ticketed Events
ATTACH;FMTTYPE=image/jpeg:https://wadsonfarm.advdev.space/wp-content/uploads/2026/01/event-4.jpg
END:VEVENT
BEGIN:VEVENT
DTSTART;TZID=Atlantic/Bermuda:20260228T110000
DTEND;TZID=Atlantic/Bermuda:20260228T233000
DTSTAMP:20260420T172210
CREATED:20260122T132832Z
LAST-MODIFIED:20260201T143739Z
UID:65-1772276400-1772321400@wadsonfarm.advdev.space
SUMMARY:Temp Event 1
DESCRIPTION:temp content… temp content… temp content… temp content… temp content… temp content… temp content… temp content… temp content… temp content… temp content… temp content… temp content… temp content… temp content… temp content… temp content… temp content… temp content… temp content… temp content… temp content… temp content… temp content… temp content… temp content… temp content… temp content… temp content…
URL:https://wadsonfarm.advdev.space/event/temp-event-1/
CATEGORIES:Ticketed Events
ATTACH;FMTTYPE=image/jpeg:https://wadsonfarm.advdev.space/wp-content/uploads/2026/01/event-2.jpg
END:VEVENT
BEGIN:VEVENT
DTSTART;TZID=Atlantic/Bermuda:20260228T110000
DTEND;TZID=Atlantic/Bermuda:20260228T233000
DTSTAMP:20260420T172210
CREATED:20260128T083830Z
LAST-MODIFIED:20260128T084106Z
UID:172-1772276400-1772321400@wadsonfarm.advdev.space
SUMMARY:Temp Event 2
DESCRIPTION:temp content… temp content… temp content… temp content… temp content… temp content… temp content… temp content… temp content… temp content… temp content… temp content… temp content… temp content… temp content… temp content… temp content… temp content… temp content… temp content… temp content… temp content… temp content… temp content… temp content… temp content… temp content… temp content… temp content…
URL:https://wadsonfarm.advdev.space/event/temp-event-2/
CATEGORIES:Ticketed Events
ATTACH;FMTTYPE=image/jpeg:https://wadsonfarm.advdev.space/wp-content/uploads/2026/01/event-2.jpg
END:VEVENT
BEGIN:VEVENT
DTSTART;TZID=Atlantic/Bermuda:20260228T110000
DTEND;TZID=Atlantic/Bermuda:20260228T233000
DTSTAMP:20260420T172210
CREATED:20260128T083845Z
LAST-MODIFIED:20260128T084102Z
UID:174-1772276400-1772321400@wadsonfarm.advdev.space
SUMMARY:Temp Event 3
DESCRIPTION:temp content… temp content… temp content… temp content… temp content… temp content… temp content… temp content… temp content… temp content… temp content… temp content… temp content… temp content… temp content… temp content… temp content… temp content… temp content… temp content… temp content… temp content… temp content… temp content… temp content… temp content… temp content… temp content… temp content…
URL:https://wadsonfarm.advdev.space/event/temp-event-3/
CATEGORIES:Ticketed Events
ATTACH;FMTTYPE=image/jpeg:https://wadsonfarm.advdev.space/wp-content/uploads/2026/01/event-2.jpg
END:VEVENT
END:VCALENDAR