BEGIN:VCALENDAR
VERSION:2.0
PRODID:-//Wadson's Farm - ECPv6.15.14//NONSGML v1.0//EN
CALSCALE:GREGORIAN
METHOD:PUBLISH
X-ORIGINAL-URL:https://wadsonfarm.advdev.space
X-WR-CALDESC:Events for Wadson's Farm
REFRESH-INTERVAL;VALUE=DURATION:PT1H
X-Robots-Tag:noindex
X-PUBLISHED-TTL:PT1H
BEGIN:VTIMEZONE
TZID:Atlantic/Bermuda
BEGIN:DAYLIGHT
TZOFFSETFROM:-0400
TZOFFSETTO:-0300
TZNAME:ADT
DTSTART:20250309T060000
END:DAYLIGHT
BEGIN:STANDARD
TZOFFSETFROM:-0300
TZOFFSETTO:-0400
TZNAME:AST
DTSTART:20251102T050000
END:STANDARD
BEGIN:DAYLIGHT
TZOFFSETFROM:-0400
TZOFFSETTO:-0300
TZNAME:ADT
DTSTART:20260308T060000
END:DAYLIGHT
BEGIN:STANDARD
TZOFFSETFROM:-0300
TZOFFSETTO:-0400
TZNAME:AST
DTSTART:20261101T050000
END:STANDARD
BEGIN:DAYLIGHT
TZOFFSETFROM:-0400
TZOFFSETTO:-0300
TZNAME:ADT
DTSTART:20270314T060000
END:DAYLIGHT
BEGIN:STANDARD
TZOFFSETFROM:-0300
TZOFFSETTO:-0400
TZNAME:AST
DTSTART:20271107T050000
END:STANDARD
END:VTIMEZONE
BEGIN:VEVENT
DTSTART;VALUE=DATE:20260208
DTEND;VALUE=DATE:20260209
DTSTAMP:20260420T195148
CREATED:20260128T084152Z
LAST-MODIFIED:20260128T104113Z
UID:180-1770508800-1770595199@wadsonfarm.advdev.space
SUMMARY:Our Temporary Holiday Hours
DESCRIPTION:temp content.. temp content.. temp content.. temp content.. temp content.. temp content.. temp content.. temp content.. temp content.. temp content.. temp content.. temp content.. temp content.. temp content.. temp content.. temp content.. temp content.. temp content.. temp content.. temp content.. temp content.. temp content.. temp content.. temp content.. temp content.. temp content.. temp content.. temp content.. temp content.. temp content.. temp content.. temp content.. temp content.. temp content..
URL:https://wadsonfarm.advdev.space/event/our-temporary-holiday-hours/
CATEGORIES:Notices
ATTACH;FMTTYPE=image/jpeg:https://wadsonfarm.advdev.space/wp-content/uploads/2026/01/event-1.jpg
END:VEVENT
BEGIN:VEVENT
DTSTART;VALUE=DATE:20260210
DTEND;VALUE=DATE:20260211
DTSTAMP:20260420T195148
CREATED:20260128T084234Z
LAST-MODIFIED:20260128T104218Z
UID:182-1770681600-1770767999@wadsonfarm.advdev.space
SUMMARY:Pumpkin Picking Event Reminder
DESCRIPTION:temp content.. temp content.. temp content.. temp content.. temp content.. temp content.. temp content.. temp content.. temp content.. temp content.. temp content.. temp content.. temp content.. temp content.. temp content.. temp content.. temp content.. temp content.. temp content.. temp content.. temp content.. temp content.. temp content.. temp content.. temp content.. temp content.. temp content.. temp content.. temp content.. temp content.. temp content.. temp content.. temp content.. temp content..
URL:https://wadsonfarm.advdev.space/event/pumpkin-picking-event-reminder/
CATEGORIES:Notices
ATTACH;FMTTYPE=image/jpeg:https://wadsonfarm.advdev.space/wp-content/uploads/2026/01/event-2.jpg
END:VEVENT
BEGIN:VEVENT
DTSTART;VALUE=DATE:20260212
DTEND;VALUE=DATE:20260213
DTSTAMP:20260420T195148
CREATED:20260128T084251Z
LAST-MODIFIED:20260128T104314Z
UID:184-1770854400-1770940799@wadsonfarm.advdev.space
SUMMARY:Touch-a-Tractor Event Notice
DESCRIPTION:temp content.. temp content.. temp content.. temp content.. temp content.. temp content.. temp content.. temp content.. temp content.. temp content.. temp content.. temp content.. temp content.. temp content.. temp content.. temp content.. temp content.. temp content.. temp content.. temp content.. temp content.. temp content.. temp content.. temp content.. temp content.. temp content.. temp content.. temp content.. temp content.. temp content.. temp content.. temp content.. temp content.. temp content..
URL:https://wadsonfarm.advdev.space/event/touch-a-tractor-event-notice/
CATEGORIES:Notices
ATTACH;FMTTYPE=image/jpeg:https://wadsonfarm.advdev.space/wp-content/uploads/2026/01/event-3.jpg
END:VEVENT
END:VCALENDAR